BEGIN:VCALENDAR
VERSION:2.0
PRODID:ics.py - http://git.io/lLljaA
BEGIN:VEVENT
DTSTAMP:20260924T110000Z
DESCRIPTION:Wir gehen den Wunderwesen Pilze auf den Grund.
DTEND:20260924T140000Z
LOCATION:Ilsungstr. 15a\, 86161 Augsburg\, DE
ORGANIZER;CN=Forstverwaltung der Stadt Augsburg:mailto:Forstverwaltung der Stadt Augsburg
DTSTART:20260924T110000Z
SUMMARY:Waldcafé - Pilzwunderwelt
UID:d42366a9-32c9-4cf5-92c6-a3bc9be49579@d423.org
END:VEVENT
END:VCALENDAR