BEGIN:VCALENDAR
VERSION:2.0
PRODID:ics.py - http://git.io/lLljaA
BEGIN:VEVENT
DTSTAMP:20260625T110000Z
DESCRIPTION:Ein Blick auf 100 Jahre Naturschutzgebiet Stadtwald. 
DTEND:20260625T140000Z
LOCATION:Dr.-Ziegenspeck-Weg 6\, 86161 Augsburg\, DE
ORGANIZER;CN=Forstverwaltung der Stadt Augsburg:mailto:Forstverwaltung der Stadt Augsburg
DTSTART:20260625T110000Z
SUMMARY:Waldcafé: 100 Jahre Naturschutzgebiet - ein Ausblick in die Zukunft
UID:ffddf2f8-1c0c-4551-8636-527448f6b034@ffdd.org
END:VEVENT
END:VCALENDAR