BEGIN:VCALENDAR
VERSION:2.0
PRODID:ics.py - http://git.io/lLljaA
BEGIN:VEVENT
DTSTAMP:20260730T110000Z
DESCRIPTION:Klimawandel: Welche Baumarten in Zukunft besser zurechtkommen werden und was die Pläne für den Stadtwald sind. 
DTEND:20260730T140000Z
LOCATION:Ilsungstr. 15a\, 86161 Augsburg\, DE
ORGANIZER;CN=Forstverwaltung der Stadt Augsburg:mailto:Forstverwaltung der Stadt Augsburg
DTSTART:20260730T110000Z
SUMMARY:Waldcafé - Stadtwaldbäume im Klimawandel
UID:c8101a3d-71ed-413d-90f7-6b3ad58ef27c@c810.org
END:VEVENT
END:VCALENDAR