BEGIN:VCALENDAR
VERSION:2.0
PRODID:ics.py - http://git.io/lLljaA
BEGIN:VEVENT
DTSTAMP:20260521T110000Z
DESCRIPTION:Ein gemeinsamer Blick auf die Bäche im Stadtwald. 
DTEND:20260521T140000Z
LOCATION:Ilsungstraße\, Augsburg\, DE
ORGANIZER;CN=Forstverwaltung der Stadt Augsburg:mailto:Forstverwaltung der Stadt Augsburg
DTSTART:20260521T110000Z
SUMMARY:Waldcafé - Life-Projekt
UID:c555f3c3-98fd-49f0-94ba-a682435a4db0@c555.org
END:VEVENT
END:VCALENDAR