BEGIN:VCALENDAR
VERSION:2.0
PRODID:ics.py - http://git.io/lLljaA
BEGIN:VEVENT
DTSTAMP:20260423T110000Z
DESCRIPTION:Waldbaden zur Stärkung der Gesundheit
DTEND:20260423T140000Z
LOCATION:Ilsungstr. 15a\, 86161 Augsburg\, DE
ORGANIZER;CN=Forstverwaltung der Stadt Augsburg:mailto:Forstverwaltung der Stadt Augsburg
DTSTART:20260423T110000Z
SUMMARY:Waldbaden
UID:a0d40aa9-b643-42cc-ac9f-0c22d0c55d12@a0d4.org
END:VEVENT
END:VCALENDAR