BEGIN:VCALENDAR
VERSION:2.0
PRODID:ics.py - http://git.io/lLljaA
BEGIN:VEVENT
DTSTAMP:20260720T163000Z
DESCRIPTION:Historische Führung durch Augsburgs Schwimmhallen - Anmeldung erforderlich
LOCATION:Zur Kammgarnspinnerei 11\, 86153 Augsburg\, DE
ORGANIZER;CN=Stadtarchiv Augsburg:mailto:Stadtarchiv Augsburg
DTSTART:20260720T163000Z
SUMMARY:Badespaß und Schwimmvergnügen
UID:a933a36d-7789-45d4-aa77-0ebe312ea359@a933.org
END:VEVENT
END:VCALENDAR