BEGIN:VCALENDAR
VERSION:2.0
PRODID:ics.py - http://git.io/lLljaA
BEGIN:VEVENT
DTSTAMP:20260715T170000Z
DESCRIPTION:Der Vortrag von Ulrike Neß untersucht die vielschichtige Verbreitung reovlutionären Gedankenguts und zeigt die Folgen der französischen Revolution in Augsburg.
LOCATION:Zur Kammgarnspinnerei 11\, 86153 Augsburg\, DE
ORGANIZER;CN=Stadtarchiv Augsburg:mailto:Stadtarchiv Augsburg
DTSTART:20260715T170000Z
SUMMARY:Zwischen Freiheit und Bedrohung - Die Rezeption der Französischen Revolution in der Reichsstadt Augsburg (1789-1806)
UID:7c1ca7da-44e6-4c2e-a501-ab5b981326e8@7c1c.org
END:VEVENT
END:VCALENDAR