BEGIN:VCALENDAR
VERSION:2.0
PRODID:ics.py - http://git.io/lLljaA
BEGIN:VEVENT
DTSTAMP:20260708T163000Z
DESCRIPTION:Stadtspaziergang mit Mario Felkl durch die Altstadt mit Vergleichen von Vergangenheit und Gegenwart vor Ort - Anmeldung erforderlich
LOCATION:Domplatz\, Augsburg\, DE
ORGANIZER;CN=Stadtarchiv Augsburg:mailto:Stadtarchiv Augsburg
DTSTART:20260708T163000Z
SUMMARY:#AugsburgimWandel - Unterwegs im Domviertel
UID:306b1d8a-76f8-4cb2-829b-57fbd9ae2534@306b.org
END:VEVENT
END:VCALENDAR