BEGIN:VCALENDAR
VERSION:2.0
PRODID:ics.py - http://git.io/lLljaA
BEGIN:VEVENT
DTSTAMP:20260624T170000Z
DESCRIPTION:Anlässlich des 200. Todejahrs von Jacob Hübner beleuchten Dr. Eberhard Pfeuffer und Renate Pfeuffer seinen ungewöhnlichen Werdegang vom Textilzeichner zum international anerkannten Schmetterlingsforscher.
LOCATION:Zur Kammgarnspinnerei 11\, 86153 Augsburg\, DE
ORGANIZER;CN=Stadtarchiv Augsburg:mailto:Stadtarchiv Augsburg
DTSTART:20260624T170000Z
SUMMARY:Vom Textilzeichner zum Naturforscher: Jacob Hübner (1761-1826)
UID:358e06fd-1105-4a1d-bea6-2e48b9cc497f@358e.org
END:VEVENT
END:VCALENDAR