BEGIN:VCALENDAR
VERSION:2.0
PRODID:ics.py - http://git.io/lLljaA
BEGIN:VEVENT
DTSTAMP:20260617T163000Z
DESCRIPTION:Stadtspaziergang mit Mario Felkl durch die Altstadt mit Vergleichen von Vergangenheit und Gegenwart vor Ort - Anmeldung erforderlich
LOCATION:Bismarckbrücke\, Augsburg\, DE
ORGANIZER;CN=Stadtarchiv Augsburg:mailto:Stadtarchiv Augsburg
DTSTART:20260617T163000Z
SUMMARY:#AugsburgimWandel - Unterwegs im Bismarckviertel    +++ Ausgebucht +++
UID:3180d6a1-4861-4ddc-ac5d-e9dc19030f64@3180.org
END:VEVENT
END:VCALENDAR