BEGIN:VCALENDAR
VERSION:2.0
PRODID:ics.py - http://git.io/lLljaA
BEGIN:VEVENT
DTSTAMP:20260610T170000Z
DESCRIPTION:Im Vortrag beleuchtet Mario Felkl die innovative Augsburger Trinkwasserversorgung\, die seit dem 16. Jahrhundert besteht und rückt dabei auch Akteure wie Brunnenmeister in den Fokus.
LOCATION:Zur Kammgarnspinnerei 11\, 86153 Augsburg\, DE
ORGANIZER;CN=Stadtarchiv Augsburg:mailto:Stadtarchiv Augsburg
DTSTART:20260610T170000Z
SUMMARY:Quellen des Fortschritts. Strukturen der Augsburger Trinkwasserversorgung im 16. Jahrhundert
UID:d996e926-cc26-4fac-8de9-bdc04148d02c@d996.org
END:VEVENT
END:VCALENDAR