BEGIN:VCALENDAR
VERSION:2.0
PRODID:ics.py - http://git.io/lLljaA
BEGIN:VEVENT
DTSTAMP:20260508T150000Z
DESCRIPTION:Wie werden historische Dokumente digitalisiert und wie finden Nutzende die gewünschten Informationen im Archiv? Ein Blick hinter die Kulissen des Stadtarchivs - Anmeldung erforderlich
LOCATION:Zur Kammgarnspinnerei 11\, 86153 Augsburg\, DE
ORGANIZER;CN=Stadtarchiv Augsburg:mailto:Stadtarchiv Augsburg
DTSTART:20260508T150000Z
SUMMARY:Geheimarchiv war gestern - Einblicke in die Arbeit des Stadtarchivs 2
UID:0dd81b0b-6d27-4d5e-ba52-db60fcc48700@0dd8.org
END:VEVENT
END:VCALENDAR