BEGIN:VCALENDAR
VERSION:2.0
PRODID:ics.py - http://git.io/lLljaA
BEGIN:VEVENT
DTSTAMP:20260506T170000Z
DESCRIPTION:Im Vortrag beleuchtet Maxx Galvač die Geschichte der Gartenzwerge im Hofgarten sowie deren Bezug zu ihren Zwergengeschwistern.
LOCATION:Zur Kammgarnspinnerei 11\, 86153 Augsburg\, DE
ORGANIZER;CN=Stadtarchiv Augsburg:mailto:Stadtarchiv Augsburg
DTSTART:20260506T170000Z
SUMMARY:"Gartenzwerge"\, nur barock? - Die Zwergenskulpturen im Hofgarten Augsburg
UID:0c1eafac-2664-405b-be98-05e6cdd4d259@0c1e.org
END:VEVENT
END:VCALENDAR