BEGIN:VCALENDAR
VERSION:2.0
PRODID:ics.py - http://git.io/lLljaA
BEGIN:VEVENT
DTSTAMP:20260504T163000Z
DESCRIPTION:Bei einem Rundgang durch das Stadtarchiv entdecken Interessierte die Bürokratie der Vergangenheit - Anmeldung erforderlich
LOCATION:Zur Kammgarnspinnerei 11\, 86153 Augsburg\, DE
ORGANIZER;CN=Stadtarchiv Augsburg:mailto:Stadtarchiv Augsburg
DTSTART:20260504T163000Z
SUMMARY:Der Mensch und seine Papiere
UID:690c5919-6ba5-473f-8b55-d8d29addc59d@690c.org
END:VEVENT
END:VCALENDAR