BEGIN:VCALENDAR
VERSION:2.0
PRODID:ics.py - http://git.io/lLljaA
BEGIN:VEVENT
DTSTAMP:20261013T070000Z
DESCRIPTION:Kennen Sie das Gefühl\, wenn man etwas Wichtiges ansprechen müsste\, aber lieber schweigt\, um keinen Konflikt auszulösen? Haben Sie das Gefühl \, dass im Team "eigentlich mehr möglich wäre" dann sind Sie hier genau richtig.Mit einer Kombination aus Zusammenarbeit im Team und gezielter Kommunikation werden Handlungssicherheit und Konfliktkompetenz gestärkt. Sie lernen\, wie Sie schwierige Gesprächssituationen sicher und professionell führen\, Konflikte frühzeitig erkennen und nachhaltig lösen.Anmeldung unter eveeno.com
DTEND:20261013T140000Z
LOCATION:Hermanstraße 1\, 86150 Augsburg\, DE
ORGANIZER;CN=Amt für Kindertagesbetreuung:mailto:Amt für Kindertagesbetreuung
DTSTART:20261013T070000Z
SUMMARY:Konstruktive Teamarbeit und schwierige Gespräche meistern- Team Hauswirtschaft Gruppe 2
UID:3ec1a78e-7ff7-4d54-a92b-6256fad465cc@3ec1.org
END:VEVENT
END:VCALENDAR