BEGIN:VCALENDAR
VERSION:2.0
PRODID:ics.py - http://git.io/lLljaA
BEGIN:VEVENT
DTSTAMP:20261014T123000Z
DESCRIPTION:Hygieneschulung für Personal in BetriebsstättenDie Schulung richtet sich an alle Mitarbeitenden\, die mit der Verarbeitung\, Zubereitung oder dem Umgang von Lebensmitteln betraut sind und sich mit den aktuellen Hygienevorgaben und HACCP-Richtlinien auskennen sollen.Folgetermin für die Onlineschulung am 04.11.2026Anmeldung unter eveeno.com
DTEND:20261014T133000Z
ORGANIZER;CN=Amt für Kindertagesbetreuung:mailto:Amt für Kindertagesbetreuung
DTSTART:20261014T123000Z
SUMMARY:ONLINE Personal- Betriebsstätten- und Lebensmittelhygiene
UID:06ec090f-8c48-4270-8545-08f55be51b06@06ec.org
END:VEVENT
END:VCALENDAR