BEGIN:VCALENDAR
VERSION:2.0
PRODID:ics.py - http://git.io/lLljaA
BEGIN:VEVENT
DTSTAMP:20261124T133000Z
DESCRIPTION:Hygieneschulung für Personal in BetriebsstättenDie Schulung richtet sich an alle Mitarbeitenden\, die mit der Verarbeitung\, Zubereitung oder dem Umgang von Lebensmitteln betraut sind und sich mit den aktuellen Hygienevorgaben und HACCP-Richtlinien auskennen sollen.Anmeldung unter eveeno.com
DTEND:20261124T150000Z
LOCATION:Hermanstraße 1\, 86150 Augsburg\, DE
ORGANIZER;CN=Amt für Kindertagesbetreuung:mailto:Amt für Kindertagesbetreuung
DTSTART:20261124T133000Z
SUMMARY:Personal- Betriebsstätten- und Lebensmittelhygiene
UID:3fae4927-2811-4070-bb30-3ee29cee69c8@3fae.org
END:VEVENT
END:VCALENDAR