BEGIN:VCALENDAR
VERSION:2.0
PRODID:ics.py - http://git.io/lLljaA
BEGIN:VEVENT
DTSTAMP:20260908T123000Z
DESCRIPTION:Hygieneschulung für Personal in BetriebsstättenDie Schulung richtet sich an alle Mitarbeitenden\, die mit der Verarbeitung\, Zubereitung oder dem Umgang von Lebensmitteln betraut sind und sich mit den aktuellen Hygienevorgaben und HACCP-Richtlinien auskennen sollen.Anmeldung unter eveeno.com
DTEND:20260908T140000Z
LOCATION:Hermanstraße 1\, 86150 Augsburg\, DE
ORGANIZER;CN=Amt für Kindertagesbetreuung:mailto:Amt für Kindertagesbetreuung
DTSTART:20260908T123000Z
SUMMARY:Personal- Betriebsstätten- und Lebensmittelhygiene
UID:9bd08661-66c9-4f4f-9354-ea4b33069fc6@9bd0.org
END:VEVENT
END:VCALENDAR