BEGIN:VCALENDAR
VERSION:2.0
PRODID:ics.py - http://git.io/lLljaA
BEGIN:VEVENT
DTSTAMP:20260429T170000Z
DESCRIPTION:Im Vortrag widmet sich Matthias Böttger dem Leben Walter Oehmichens und seinem Erfolg mit der Gründung der "Puppenkiste".
LOCATION:Zur Kammgarnspinnerei 11\, 86153 Augsburg\, DE
ORGANIZER;CN=Stadtarchiv Augsburg:mailto:Stadtarchiv Augsburg
DTSTART:20260429T170000Z
SUMMARY:Vom Wohnzimmer in die Welt. Walter Oehmichens Augsburger Puppenkiste
UID:384d06f9-55fc-49da-94d0-8e2e135711c6@384d.org
END:VEVENT
END:VCALENDAR