BEGIN:VCALENDAR
VERSION:2.0
PRODID:ics.py - http://git.io/lLljaA
BEGIN:VEVENT
DTSTAMP:20261009T063000Z
DESCRIPTION:Energieberatung in der Imhofstr. 7 in Kooperation mit dem Bauordnungs- und Bauplanungsamt: 08:30 bis 12:00 Uhr ohne Terminvereinbarung.
DTEND:20261009T100000Z
LOCATION:Imhofstraße 7\, 86159 Augsburg\, DE
ORGANIZER;CN=Umweltamt Stadt Augsburg:mailto:Umweltamt Stadt Augsburg
DTSTART:20261009T063000Z
SUMMARY:Energieberatung der Stadt Augsburg
UID:d790b6b2-ddcc-4b5c-90e6-9fbbcefd0597@d790.org
END:VEVENT
END:VCALENDAR