BEGIN:VCALENDAR
VERSION:2.0
PRODID:ics.py - http://git.io/lLljaA
BEGIN:VEVENT
DTSTAMP:20260925T063000Z
DESCRIPTION:Energieberatung in der Imhofstr. 7 in Kooperation mit dem Bauordnungs- und Bauplanungsamt: 08:30 bis 12:00 Uhr ohne Terminvereinbarung.
DTEND:20260925T100000Z
LOCATION:Imhofstraße 7\, 86159 Augsburg\, DE
ORGANIZER;CN=Umweltamt Stadt Augsburg:mailto:Umweltamt Stadt Augsburg
DTSTART:20260925T063000Z
SUMMARY:Energieberatung der Stadt Augsburg
UID:2c438bfc-6ca8-4eb8-a70b-28da2bd288da@2c43.org
END:VEVENT
END:VCALENDAR