BEGIN:VCALENDAR
VERSION:2.0
PRODID:ics.py - http://git.io/lLljaA
BEGIN:VEVENT
DTSTAMP:20260814T063000Z
DESCRIPTION:Energieberatung in der Imhofstr. 7 in Kooperation mit dem Bauordnungs- und Bauplanungsamt: 08:30 bis 12:00 Uhr ohne Terminvereinbarung.
DTEND:20260814T100000Z
LOCATION:Imhofstraße 7\, 86159 Augsburg\, DE
ORGANIZER;CN=Umweltamt Stadt Augsburg:mailto:Umweltamt Stadt Augsburg
DTSTART:20260814T063000Z
SUMMARY:Energieberatung der Stadt Augsburg
UID:588cf232-02ff-4c49-83b0-70d4fd1c6540@588c.org
END:VEVENT
END:VCALENDAR