BEGIN:VCALENDAR
VERSION:2.0
PRODID:ics.py - http://git.io/lLljaA
BEGIN:VEVENT
DTSTAMP:20260807T063000Z
DESCRIPTION:Energieberatung in der Imhofstr. 7 in Kooperation mit dem Bauordnungs- und Bauplanungsamt: 08:30 bis 12:00 Uhr ohne Terminvereinbarung.
DTEND:20260807T100000Z
LOCATION:Imhofstraße 7\, 86159 Augsburg\, DE
ORGANIZER;CN=Umweltamt Stadt Augsburg:mailto:Umweltamt Stadt Augsburg
DTSTART:20260807T063000Z
SUMMARY:Energieberatung der Stadt Augsburg
UID:bf88419a-24c0-40ac-81bf-f41b10367bc8@bf88.org
END:VEVENT
END:VCALENDAR