BEGIN:VCALENDAR
VERSION:2.0
PRODID:ics.py - http://git.io/lLljaA
BEGIN:VEVENT
DTSTAMP:20260605T063000Z
DESCRIPTION:Energieberatung in der Imhofstr. 7 in Kooperation mit dem Bauordnungs- und Bauplanungsamt: 08:30 bis 12:00 Uhr ohne Terminvereinbarung.
DTEND:20260605T100000Z
LOCATION:Imhofstraße 7\, 86159 Augsburg\, DE
ORGANIZER;CN=Umweltamt Stadt Augsburg:mailto:Umweltamt Stadt Augsburg
DTSTART:20260605T063000Z
SUMMARY:Energieberatung der Stadt Augsburg
UID:0a5e333f-e55a-4645-8923-57c9c57510d8@0a5e.org
END:VEVENT
END:VCALENDAR