BEGIN:VCALENDAR
VERSION:2.0
PRODID:ics.py - http://git.io/lLljaA
BEGIN:VEVENT
DTSTAMP:20261011T130000Z
DESCRIPTION:Regie: Detlef Winterberg
LOCATION:Kulturhaus abraxas\, Sommestraße 30\, 86156 Augsburg\, DE
ORGANIZER;CN=Theater Fritz und Freunde:mailto:Theater Fritz und Freunde
DTSTART:20261011T130000Z
SUMMARY:Theater Fritz und Freunde: Das Dschungelbuch (ab 4)
UID:dfb1d26a-fb1f-4ac0-89d2-37a737750b7b@dfb1.org
END:VEVENT
END:VCALENDAR