BEGIN:VCALENDAR
VERSION:2.0
PRODID:ics.py - http://git.io/lLljaA
BEGIN:VEVENT
DTSTAMP:20260919T130000Z
DESCRIPTION:Nach den Brüdern Grimm
LOCATION:Kulturhaus abraxas\, Sommestraße 30\, 86156 Augsburg\, DE
ORGANIZER;CN=Theater Fritz und Freunde:mailto:Theater Fritz und Freunde
DTSTART:20260919T130000Z
SUMMARY:Rapunzel (ab 3) - Theater Fritz und Freunde
UID:d7fb536a-3c07-434d-acd2-45774ff70297@d7fb.org
END:VEVENT
END:VCALENDAR