BEGIN:VCALENDAR
VERSION:2.0
PRODID:ics.py - http://git.io/lLljaA
BEGIN:VEVENT
DTSTAMP:20250625T063000Z
DESCRIPTION:Mundmaler Werner Mittelbach und Plastikkünstler H.-Rainer Mayer
DTEND:20250625T103000Z
LOCATION:Kulturhaus abraxas\, Sommestraße 30\, 86156 Augsburg\, DE
ORGANIZER;CN=H.-Rainer Mayer:mailto:H.-Rainer Mayer
DTSTART:20250625T063000Z
SUMMARY:Kunst – Lebenssinn und Lebensaufgabe
UID:28c963f7-c3fc-479d-b075-6f7c75ae1dc7@28c9.org
END:VEVENT
END:VCALENDAR