BEGIN:VCALENDAR
VERSION:2.0
PRODID:ics.py - http://git.io/lLljaA
BEGIN:VEVENT
DTSTAMP:20250722T110000Z
DESCRIPTION:Energieberatung im Stadtteilzentrum Haunstetten\, BRK - Mehr-Generationen-Treffpunk: 13.00 bis 16.00 Uhr. Terminvereinbarung unter: 0821 324-7320.
DTEND:20250722T144500Z
LOCATION:Johann-Strauß-Straße 11A\, 86179 Augsburg\, DE
ORGANIZER;CN=Umweltamt Stadt Augsburg:mailto:Umweltamt Stadt Augsburg
DTSTART:20250722T110000Z
SUMMARY:Energieberatung der Stadt Augsburg
UID:67e1e62a-89a2-4eb0-9293-80f47e8a9c08@67e1.org
END:VEVENT
END:VCALENDAR