BEGIN:VCALENDAR
VERSION:2.0
PRODID:ics.py - http://git.io/lLljaA
BEGIN:VEVENT
DTSTAMP:20260707T173000Z
DESCRIPTION:Konzert & Lesung
DTEND:20260707T193000Z
LOCATION:Kulturhaus abraxas\, Sommestraße 30\, 86156 Augsburg\, DE
ORGANIZER;CN=Max Prosa:mailto:Max Prosa
DTSTART:20260707T173000Z
SUMMARY:Wildwuchs - Max Prosa
UID:0ba5c97a-ed5a-4148-9736-096ad144432b@0ba5.org
END:VEVENT
END:VCALENDAR