BEGIN:VCALENDAR
VERSION:2.0
PRODID:ics.py - http://git.io/lLljaA
BEGIN:VEVENT
DTSTAMP:20250516T153000Z
DTEND:20250516T190000Z
ORGANIZER;CN=Stadt Augsburg:mailto:Stadt Augsburg
DTSTART:20250516T153000Z
SUMMARY:gefährdet leben. Queere Menschen 1933-1945 | Finissage mit Vortrag und Filmvorführung
UID:3dada24b-bfb9-46d4-b146-436450a687c5@3dad.org
END:VEVENT
END:VCALENDAR