BEGIN:VCALENDAR
VERSION:2.0
PRODID:ics.py - http://git.io/lLljaA
BEGIN:VEVENT
DTSTAMP:20250617T140000Z
DESCRIPTION:Achterbahn fahren\, Bomben entschärfen und Aliens retten mitten in der Bücherei? Unsere Meta Quest 3 macht es möglich. Wir probieren gemeinsam die VR-Brille aus und versetzen uns in ungewöhnliche Situationen.\nFür alle Interessierten ab 12 Jahren. Der Eintritt ist frei. Es ist keine Anmeldung erforderlich. Je nach Andrang kann es zu Wartezeiten kommen.
DTEND:20250617T150000Z
ORGANIZER;CN=Stadtbücherei Augsburg:mailto:Stadtbücherei Augsburg
DTSTART:20250617T140000Z
SUMMARY:Entdecke die VR-Brille!
UID:be2e1c07-58c9-43df-a477-fff049c7cdc2@be2e.org
END:VEVENT
END:VCALENDAR