BEGIN:VCALENDAR
VERSION:2.0
PRODID:ics.py - http://git.io/lLljaA
BEGIN:VEVENT
DTSTAMP:20250512T160000Z
DESCRIPTION:Die Ausstellung der Haunstetter Künstlerin Regina Weber ist bis zum 19.01.2026 bei uns zu unseren Öffnungszeiten zu sehen: Mo+Do: 13-18 Uhr und Mi 9-14 Uhr\nAm Montag\, 12.05.2025 um 18 Uhr\, führt uns Frau Weber durch die Ausstellung und liest im Anschluss eigene\, passende Texte zu Ihrer Kunst vor.\nNach einer kleinen Pause wird uns die Autorin Brigitte Diefenthaler auf eine Reise in Ihren historischen Roman „Ein Koffer voller Mut“ mitnehmen.\nDer Eintritt frei.\nDie Teilnehmerzahl ist begrenzt.\nAnmeldung und Informationen: 0821 324 2726\n \n \n \n 
DTEND:20250512T180000Z
LOCATION:Stadtteilbücherei Haunstetten\, Tattenbachstraße 15\, 86179 Augsburg\, DE
ORGANIZER;CN=Stadtteilbücherei Haunstetten:mailto:Stadtteilbücherei Haunstetten
DTSTART:20250512T160000Z
SUMMARY:Einführung zur Ausstellung plus Lesung Regina Weber und Brigitte Diefenthaler
UID:e2cbe10c-0244-40a2-ae34-9d0cc70c9eec@e2cb.org
END:VEVENT
END:VCALENDAR