BEGIN:VCALENDAR
VERSION:2.0
PRODID:ics.py - http://git.io/lLljaA
BEGIN:VEVENT
DTSTAMP:20260716T133000Z
DESCRIPTION:Stricken\, Häkeln oder einfach ins Gespräch kommen in Nadjas Handarbeitsrunde.Die Termine\, immer von 15:30 bis 16:30 Uhr\, für das 2. Halbjahr 2026 sind: 16.7./17.9./15.10./19.11./17.12.Bitte gerne angefangene Handarbeitsstücke\, Strick- und Häkelutensilien mitbringen.Keine Anmeldung erforderlich.
DTEND:20260716T143000Z
LOCATION:Stadtteilbücherei Haunstetten\, Tattenbachstraße 15\, 86179 Augsburg\, DE
ORGANIZER;CN=Stadtteilbücherei Haunstetten:mailto:Stadtteilbücherei Haunstetten
DTSTART:20260716T133000Z
SUMMARY:BibliotECO: Strick- und Häkelrunde in Haunstetten
UID:87062ab2-0969-4cd4-9f97-ad8b59ec9108@8706.org
END:VEVENT
END:VCALENDAR