BEGIN:VCALENDAR
VERSION:2.0
PRODID:ics.py - http://git.io/lLljaA
BEGIN:VEVENT
DTSTAMP:20260613T130000Z
DESCRIPTION:Eine Geschichte über Freundschaft für Menschen ab 4 Jahren
LOCATION:Kulturhaus abraxas\, Sommestraße 30\, 86156 Augsburg\, DE
ORGANIZER;CN=Clowness Theater:mailto:Clowness Theater
DTSTART:20260613T130000Z
SUMMARY:Glucks und das schrecklich liebe Gespenst (ab 4 bis 10)
UID:41a5b50e-114a-47f0-825e-63d6080bc235@41a5.org
END:VEVENT
END:VCALENDAR