BEGIN:VCALENDAR
VERSION:2.0
PRODID:ics.py - http://git.io/lLljaA
BEGIN:VEVENT
DTSTAMP:20260703T080000Z
DESCRIPTION:Nur für Gruppen! 
DTEND:20260703T090000Z
LOCATION:Kulturhaus abraxas\, Sommestraße 30\, 86156 Augsburg\, DE
ORGANIZER;CN=Clowness Theater:mailto:Clowness Theater
DTSTART:20260703T080000Z
SUMMARY:Der Bücherschatz (ab 4 bis 10) - Clowness Theater
UID:52292d63-7eb7-4576-91bd-e07e7c6af13a@5229.org
END:VEVENT
END:VCALENDAR